BEGIN:VCALENDAR
VERSION:2.0
PRODID:-//American German Club of the Palm Beaches - ECPv6.15.20//NONSGML v1.0//EN
CALSCALE:GREGORIAN
METHOD:PUBLISH
X-WR-CALNAME:American German Club of the Palm Beaches
X-ORIGINAL-URL:https://americangermanclub.org
X-WR-CALDESC:Events for American German Club of the Palm Beaches
REFRESH-INTERVAL;VALUE=DURATION:PT1H
X-Robots-Tag:noindex
X-PUBLISHED-TTL:PT1H
BEGIN:VTIMEZONE
TZID:America/New_York
BEGIN:DAYLIGHT
TZOFFSETFROM:-0500
TZOFFSETTO:-0400
TZNAME:EDT
DTSTART:20250309T070000
END:DAYLIGHT
BEGIN:STANDARD
TZOFFSETFROM:-0400
TZOFFSETTO:-0500
TZNAME:EST
DTSTART:20251102T060000
END:STANDARD
BEGIN:DAYLIGHT
TZOFFSETFROM:-0500
TZOFFSETTO:-0400
TZNAME:EDT
DTSTART:20260308T070000
END:DAYLIGHT
BEGIN:STANDARD
TZOFFSETFROM:-0400
TZOFFSETTO:-0500
TZNAME:EST
DTSTART:20261101T060000
END:STANDARD
BEGIN:DAYLIGHT
TZOFFSETFROM:-0500
TZOFFSETTO:-0400
TZNAME:EDT
DTSTART:20270314T070000
END:DAYLIGHT
BEGIN:STANDARD
TZOFFSETFROM:-0400
TZOFFSETTO:-0500
TZNAME:EST
DTSTART:20271107T060000
END:STANDARD
END:VTIMEZONE
BEGIN:VEVENT
DTSTART;TZID=America/New_York:20260626T180000
DTEND;TZID=America/New_York:20260626T220000
DTSTAMP:20260423T072158
CREATED:20260420T233131Z
LAST-MODIFIED:20260420T233131Z
UID:3062-1782496800-1782511200@americangermanclub.org
SUMMARY:Feierabend Happy Hour
DESCRIPTION:Enjoy a laid-back German Happy Hour with cold bier\, wine\, cocktails\, and light bites in our cozy Clubhouse—perfect for unwinding after work and connecting the German way. Free entry. Hours are 6-10 PM.
URL:https://americangermanclub.org/event/feierabend-happy-hour-3/
LOCATION:American German Club of the Palm Beaches\, 5111 Lantana Road\, Lake Worth\, FL\, 33463\, United States
ATTACH;FMTTYPE=image/png:https://americangermanclub.org/wp-content/uploads/2025/12/Feierabend_Website-Event-Calendar.png
END:VEVENT
BEGIN:VEVENT
DTSTART;TZID=America/New_York:20260628T103000
DTEND;TZID=America/New_York:20260628T140000
DTSTAMP:20260423T072158
CREATED:20260420T233300Z
LAST-MODIFIED:20260420T233300Z
UID:3043-1782642600-1782655200@americangermanclub.org
SUMMARY:Frühschoppen Bavarian Brunch
DESCRIPTION:Savor classic German and American dishes\, along with monthly specials and a full bar\, all served in our inviting clubhouse. Everything is available à la carte\, and admission is free. Seating is first come\, first served. We will be open from 10:30 AM-2:00 PM.
URL:https://americangermanclub.org/event/fruhschoppen-bavarian-brunch-4/
LOCATION:American German Club of the Palm Beaches\, 5111 Lantana Road\, Lake Worth\, FL\, 33463\, United States
ATTACH;FMTTYPE=image/png:https://americangermanclub.org/wp-content/uploads/2026/01/Fruhschoppen_Website-Event-Calendar.png
END:VEVENT
BEGIN:VEVENT
DTSTART;TZID=America/New_York:20260711T170000
DTEND;TZID=America/New_York:20260711T230000
DTSTAMP:20260423T072158
CREATED:20260420T233350Z
LAST-MODIFIED:20260420T235042Z
UID:3046-1783789200-1783810800@americangermanclub.org
SUMMARY:Bier Olympics Finals
DESCRIPTION:Come cheer on the teams as they compete in fun\, relay games! Enjoy cold bier\, wine\, or cocktails\, delicious food\, and high-energy fun as teams race for glory—and bragging rights!
URL:https://americangermanclub.org/event/bier-olympics-finals/
LOCATION:American German Club of the Palm Beaches\, 5111 Lantana Road\, Lake Worth\, FL\, 33463\, United States
ATTACH;FMTTYPE=image/png:https://americangermanclub.org/wp-content/uploads/2026/02/Bier-Olympics_Website-Event-Calendar.png
END:VEVENT
BEGIN:VEVENT
DTSTART;TZID=America/New_York:20260718T170000
DTEND;TZID=America/New_York:20260718T220000
DTSTAMP:20260423T072158
CREATED:20260420T233456Z
LAST-MODIFIED:20260420T233456Z
UID:3040-1784394000-1784412000@americangermanclub.org
SUMMARY:Prost! Series - Sommerfest
DESCRIPTION:Escape the Florida summer heat and join us inside our air-conditioned clubhouse for a night of cold bier\, great food\, and live music.
URL:https://americangermanclub.org/event/prost-series-sommerfest/
LOCATION:American German Club of the Palm Beaches\, 5111 Lantana Road\, Lake Worth\, FL\, 33463\, United States
ATTACH;FMTTYPE=image/png:https://americangermanclub.org/wp-content/uploads/2026/04/Sommerfest_Website-Event-Calendar.png
END:VEVENT
BEGIN:VEVENT
DTSTART;TZID=America/New_York:20260719T143000
DTEND;TZID=America/New_York:20260719T173000
DTSTAMP:20260423T072158
CREATED:20260420T233647Z
LAST-MODIFIED:20260420T233647Z
UID:3036-1784471400-1784482200@americangermanclub.org
SUMMARY:World Cup Final
DESCRIPTION:Join us in the Clubhouse for a World Cup watch party! Doors open at 2:30 PM and the match starts at 3:00 PM. Free admission and parking\, with a full bar and light snacks available for purchase.
URL:https://americangermanclub.org/event/world-cup-final/
LOCATION:American German Club of the Palm Beaches\, 5111 Lantana Road\, Lake Worth\, FL\, 33463\, United States
ATTACH;FMTTYPE=image/png:https://americangermanclub.org/wp-content/uploads/2026/04/World-Cup_Final_Website-Event-Calendar1.png
END:VEVENT
BEGIN:VEVENT
DTSTART;TZID=America/New_York:20260726T103000
DTEND;TZID=America/New_York:20260726T140000
DTSTAMP:20260423T072158
CREATED:20260420T233735Z
LAST-MODIFIED:20260420T233735Z
UID:3044-1785061800-1785074400@americangermanclub.org
SUMMARY:Frühschoppen Bavarian Brunch
DESCRIPTION:Savor classic German and American dishes\, along with monthly specials and a full bar\, all served in our inviting clubhouse. Everything is available à la carte\, and admission is free. Seating is first come\, first served. We will be open from 10:30 AM-2:00 PM.
URL:https://americangermanclub.org/event/fruhschoppen-bavarian-brunch-5/
LOCATION:American German Club of the Palm Beaches\, 5111 Lantana Road\, Lake Worth\, FL\, 33463\, United States
ATTACH;FMTTYPE=image/png:https://americangermanclub.org/wp-content/uploads/2026/01/Fruhschoppen_Website-Event-Calendar.png
END:VEVENT
BEGIN:VEVENT
DTSTART;TZID=America/New_York:20260731T180000
DTEND;TZID=America/New_York:20260731T220000
DTSTAMP:20260423T072158
CREATED:20260420T233808Z
LAST-MODIFIED:20260420T233808Z
UID:3045-1785520800-1785535200@americangermanclub.org
SUMMARY:Feierabend Happy Hour
DESCRIPTION:Enjoy a laid-back German Happy Hour with cold bier\, wine\, cocktails\, and light bites in our cozy Clubhouse—perfect for unwinding after work and connecting the German way. Free entry. Hours are 6-10 PM.
URL:https://americangermanclub.org/event/feierabend-happy-hour-4/
LOCATION:American German Club of the Palm Beaches\, 5111 Lantana Road\, Lake Worth\, FL\, 33463\, United States
ATTACH;FMTTYPE=image/png:https://americangermanclub.org/wp-content/uploads/2025/12/Feierabend_Website-Event-Calendar.png
END:VEVENT
END:VCALENDAR