BEGIN:VCALENDAR
VERSION:2.0
PRODID:-//American German Club of the Palm Beaches - ECPv6.15.20//NONSGML v1.0//EN
CALSCALE:GREGORIAN
METHOD:PUBLISH
X-WR-CALNAME:American German Club of the Palm Beaches
X-ORIGINAL-URL:https://americangermanclub.org
X-WR-CALDESC:Events for American German Club of the Palm Beaches
REFRESH-INTERVAL;VALUE=DURATION:PT1H
X-Robots-Tag:noindex
X-PUBLISHED-TTL:PT1H
BEGIN:VTIMEZONE
TZID:America/New_York
BEGIN:DAYLIGHT
TZOFFSETFROM:-0500
TZOFFSETTO:-0400
TZNAME:EDT
DTSTART:20250309T070000
END:DAYLIGHT
BEGIN:STANDARD
TZOFFSETFROM:-0400
TZOFFSETTO:-0500
TZNAME:EST
DTSTART:20251102T060000
END:STANDARD
BEGIN:DAYLIGHT
TZOFFSETFROM:-0500
TZOFFSETTO:-0400
TZNAME:EDT
DTSTART:20260308T070000
END:DAYLIGHT
BEGIN:STANDARD
TZOFFSETFROM:-0400
TZOFFSETTO:-0500
TZNAME:EST
DTSTART:20261101T060000
END:STANDARD
BEGIN:DAYLIGHT
TZOFFSETFROM:-0500
TZOFFSETTO:-0400
TZNAME:EDT
DTSTART:20270314T070000
END:DAYLIGHT
BEGIN:STANDARD
TZOFFSETFROM:-0400
TZOFFSETTO:-0500
TZNAME:EST
DTSTART:20271107T060000
END:STANDARD
END:VTIMEZONE
BEGIN:VEVENT
DTSTART;TZID=America/New_York:20260625T153000
DTEND;TZID=America/New_York:20260625T183000
DTSTAMP:20260423T135039
CREATED:20260420T232451Z
LAST-MODIFIED:20260420T232451Z
UID:3035-1782401400-1782412200@americangermanclub.org
SUMMARY:World Cup - Germany vs. Ecuador
DESCRIPTION:Join us in the Clubhouse for a World Cup watch party! Doors open at 3:30 PM and the match starts at 4:00 PM. Free admission and parking\, with a full bar and light snacks available for purchase.
URL:https://americangermanclub.org/event/world-cup-germany-vs-ecuador/
LOCATION:American German Club of the Palm Beaches\, 5111 Lantana Road\, Lake Worth\, FL\, 33463\, United States
ATTACH;FMTTYPE=image/png:https://americangermanclub.org/wp-content/uploads/2026/04/World-Cup_Germany_Website-Event-Calendar1.png
END:VEVENT
BEGIN:VEVENT
DTSTART;TZID=America/New_York:20260625T213000
DTEND;TZID=America/New_York:20260626T003000
DTSTAMP:20260423T135039
CREATED:20260420T232605Z
LAST-MODIFIED:20260420T232605Z
UID:3031-1782423000-1782433800@americangermanclub.org
SUMMARY:World Cup - USA vs. Turkey
DESCRIPTION:Join us in the Clubhouse for a World Cup watch party! Doors open at 9:30 PM and the match starts at 10:00 PM. Free admission and parking\, with a full bar and light snacks available for purchase.
URL:https://americangermanclub.org/event/world-cup-usa-vs-turkey/
LOCATION:American German Club of the Palm Beaches\, 5111 Lantana Road\, Lake Worth\, FL\, 33463\, United States
ATTACH;FMTTYPE=image/png:https://americangermanclub.org/wp-content/uploads/2026/04/World-Cup_USA_Website-Event-Calendar1.png
END:VEVENT
END:VCALENDAR