BEGIN:VCALENDAR
VERSION:2.0
PRODID:-//American German Club of the Palm Beaches - ECPv6.15.20//NONSGML v1.0//EN
CALSCALE:GREGORIAN
METHOD:PUBLISH
X-WR-CALNAME:American German Club of the Palm Beaches
X-ORIGINAL-URL:https://americangermanclub.org
X-WR-CALDESC:Events for American German Club of the Palm Beaches
REFRESH-INTERVAL;VALUE=DURATION:PT1H
X-Robots-Tag:noindex
X-PUBLISHED-TTL:PT1H
BEGIN:VTIMEZONE
TZID:America/New_York
BEGIN:DAYLIGHT
TZOFFSETFROM:-0500
TZOFFSETTO:-0400
TZNAME:EDT
DTSTART:20250309T070000
END:DAYLIGHT
BEGIN:STANDARD
TZOFFSETFROM:-0400
TZOFFSETTO:-0500
TZNAME:EST
DTSTART:20251102T060000
END:STANDARD
BEGIN:DAYLIGHT
TZOFFSETFROM:-0500
TZOFFSETTO:-0400
TZNAME:EDT
DTSTART:20260308T070000
END:DAYLIGHT
BEGIN:STANDARD
TZOFFSETFROM:-0400
TZOFFSETTO:-0500
TZNAME:EST
DTSTART:20261101T060000
END:STANDARD
BEGIN:DAYLIGHT
TZOFFSETFROM:-0500
TZOFFSETTO:-0400
TZNAME:EDT
DTSTART:20270314T070000
END:DAYLIGHT
BEGIN:STANDARD
TZOFFSETFROM:-0400
TZOFFSETTO:-0500
TZNAME:EST
DTSTART:20271107T060000
END:STANDARD
END:VTIMEZONE
BEGIN:VEVENT
DTSTART;TZID=America/New_York:20260620T153000
DTEND;TZID=America/New_York:20260620T183000
DTSTAMP:20260423T122642
CREATED:20260420T232047Z
LAST-MODIFIED:20260420T232047Z
UID:3034-1781969400-1781980200@americangermanclub.org
SUMMARY:World Cup - Germany vs. Ivory Coast
DESCRIPTION:Join us in the Pavilion for a World Cup watch party! Doors open at 3:30 PM and the match starts at 4:00 PM. Free admission and parking\, with bier and wine available for purchase. Bring your own snacks.
URL:https://americangermanclub.org/event/world-cup-germany-vs-ivory-coast/
LOCATION:American German Club of the Palm Beaches\, 5111 Lantana Road\, Lake Worth\, FL\, 33463\, United States
ATTACH;FMTTYPE=image/png:https://americangermanclub.org/wp-content/uploads/2026/04/World-Cup_Germany_Website-Event-Calendar1.png
END:VEVENT
BEGIN:VEVENT
DTSTART;TZID=America/New_York:20260620T170000
DTEND;TZID=America/New_York:20260620T220000
DTSTAMP:20260423T122642
CREATED:20260420T232157Z
LAST-MODIFIED:20260420T232157Z
UID:3038-1781974800-1781992800@americangermanclub.org
SUMMARY:Prost! Series - Trachtenfest
DESCRIPTION:Join us for Trachtenfest in our charming clubhouse\, where you can dress in your best dirndl or lederhosen\, enjoy great bier\, music\, and food\, and celebrate in true German style!
URL:https://americangermanclub.org/event/prost-series-trachtenfest/
LOCATION:American German Club of the Palm Beaches\, 5111 Lantana Road\, Lake Worth\, FL\, 33463\, United States
ATTACH;FMTTYPE=image/png:https://americangermanclub.org/wp-content/uploads/2026/04/Trachtenfest_Website-Event-Calendar.png
END:VEVENT
END:VCALENDAR