BEGIN:VCALENDAR
VERSION:2.0
PRODID:-//American German Club of the Palm Beaches - ECPv6.15.20//NONSGML v1.0//EN
CALSCALE:GREGORIAN
METHOD:PUBLISH
X-ORIGINAL-URL:https://americangermanclub.org
X-WR-CALDESC:Events for American German Club of the Palm Beaches
REFRESH-INTERVAL;VALUE=DURATION:PT1H
X-Robots-Tag:noindex
X-PUBLISHED-TTL:PT1H
BEGIN:VTIMEZONE
TZID:America/New_York
BEGIN:DAYLIGHT
TZOFFSETFROM:-0500
TZOFFSETTO:-0400
TZNAME:EDT
DTSTART:20250309T070000
END:DAYLIGHT
BEGIN:STANDARD
TZOFFSETFROM:-0400
TZOFFSETTO:-0500
TZNAME:EST
DTSTART:20251102T060000
END:STANDARD
BEGIN:DAYLIGHT
TZOFFSETFROM:-0500
TZOFFSETTO:-0400
TZNAME:EDT
DTSTART:20260308T070000
END:DAYLIGHT
BEGIN:STANDARD
TZOFFSETFROM:-0400
TZOFFSETTO:-0500
TZNAME:EST
DTSTART:20261101T060000
END:STANDARD
BEGIN:DAYLIGHT
TZOFFSETFROM:-0500
TZOFFSETTO:-0400
TZNAME:EDT
DTSTART:20270314T070000
END:DAYLIGHT
BEGIN:STANDARD
TZOFFSETFROM:-0400
TZOFFSETTO:-0500
TZNAME:EST
DTSTART:20271107T060000
END:STANDARD
END:VTIMEZONE
BEGIN:VEVENT
DTSTART;TZID=America/New_York:20260619T143000
DTEND;TZID=America/New_York:20260619T173000
DTSTAMP:20260423T105643
CREATED:20260420T231929Z
LAST-MODIFIED:20260420T231929Z
UID:3030-1781879400-1781890200@americangermanclub.org
SUMMARY:World Cup - USA vs. Australia
DESCRIPTION:Join us in the Clubhouse for a World Cup watch party! Doors open at 2:30 PM and the match starts at 3:00 PM. Free admission and parking\, with a full bar and light snacks available for purchase.
URL:https://americangermanclub.org/event/world-cup-usa-vs-australia/
LOCATION:American German Club of the Palm Beaches\, 5111 Lantana Road\, Lake Worth\, FL\, 33463\, United States
ATTACH;FMTTYPE=image/png:https://americangermanclub.org/wp-content/uploads/2026/04/World-Cup_USA_Website-Event-Calendar1.png
END:VEVENT
END:VCALENDAR