BEGIN:VCALENDAR
VERSION:2.0
PRODID:-//American German Club of the Palm Beaches - ECPv6.15.20//NONSGML v1.0//EN
CALSCALE:GREGORIAN
METHOD:PUBLISH
X-ORIGINAL-URL:https://americangermanclub.org
X-WR-CALDESC:Events for American German Club of the Palm Beaches
REFRESH-INTERVAL;VALUE=DURATION:PT1H
X-Robots-Tag:noindex
X-PUBLISHED-TTL:PT1H
BEGIN:VTIMEZONE
TZID:America/New_York
BEGIN:DAYLIGHT
TZOFFSETFROM:-0500
TZOFFSETTO:-0400
TZNAME:EDT
DTSTART:20250309T070000
END:DAYLIGHT
BEGIN:STANDARD
TZOFFSETFROM:-0400
TZOFFSETTO:-0500
TZNAME:EST
DTSTART:20251102T060000
END:STANDARD
BEGIN:DAYLIGHT
TZOFFSETFROM:-0500
TZOFFSETTO:-0400
TZNAME:EDT
DTSTART:20260308T070000
END:DAYLIGHT
BEGIN:STANDARD
TZOFFSETFROM:-0400
TZOFFSETTO:-0500
TZNAME:EST
DTSTART:20261101T060000
END:STANDARD
BEGIN:DAYLIGHT
TZOFFSETFROM:-0500
TZOFFSETTO:-0400
TZNAME:EDT
DTSTART:20270314T070000
END:DAYLIGHT
BEGIN:STANDARD
TZOFFSETFROM:-0400
TZOFFSETTO:-0500
TZNAME:EST
DTSTART:20271107T060000
END:STANDARD
END:VTIMEZONE
BEGIN:VEVENT
DTSTART;TZID=America/New_York:20260606T140000
DTEND;TZID=America/New_York:20260606T170000
DTSTAMP:20260423T092215
CREATED:20260420T230218Z
LAST-MODIFIED:20260420T231045Z
UID:3028-1780754400-1780765200@americangermanclub.org
SUMMARY:Soccer Watch - USA vs. Germany
DESCRIPTION:Join us in the Clubhouse for a watch party! Doors open at 2:00 PM and the match starts at 2:30 PM. Free admission and parking\, with a full bar available for purchase.
URL:https://americangermanclub.org/event/soccer-watch-usa-vs-germany/
LOCATION:American German Club of the Palm Beaches\, 5111 Lantana Road\, Lake Worth\, FL\, 33463\, United States
ATTACH;FMTTYPE=image/png:https://americangermanclub.org/wp-content/uploads/2026/04/Soccer-Watch_Germany-vs-USA_Website-Event-Calendar1.png
END:VEVENT
END:VCALENDAR